BEGIN:VCALENDAR
VERSION:2.0
PRODID:-//ONWAR - ECPv6.15.18//NONSGML v1.0//EN
CALSCALE:GREGORIAN
METHOD:PUBLISH
X-WR-CALNAME:ONWAR
X-ORIGINAL-URL:https://onwar.nl
X-WR-CALDESC:Events for ONWAR
REFRESH-INTERVAL;VALUE=DURATION:PT1H
X-Robots-Tag:noindex
X-PUBLISHED-TTL:PT1H
BEGIN:VTIMEZONE
TZID:UTC
BEGIN:STANDARD
TZOFFSETFROM:+0000
TZOFFSETTO:+0000
TZNAME:UTC
DTSTART:20240101T000000
END:STANDARD
END:VTIMEZONE
BEGIN:VEVENT
DTSTART;TZID=UTC:20250901T080000
DTEND;TZID=UTC:20251031T170000
DTSTAMP:20260417T071623
CREATED:20250503T113539Z
LAST-MODIFIED:20250503T113842Z
UID:5868-1756713600-1761930000@onwar.nl
SUMMARY:Course: Statistics in Neuroscience
DESCRIPTION:
URL:https://onwar.nl/event/course-statistics-in-neuroscience/
END:VEVENT
BEGIN:VEVENT
DTSTART;TZID=UTC:20251030T080000
DTEND;TZID=UTC:20251030T170000
DTSTAMP:20260417T071623
CREATED:20241114T143549Z
LAST-MODIFIED:20241114T143549Z
UID:4324-1761811200-1761843600@onwar.nl
SUMMARY:ONWAR/CEN Annual PhD meeting
DESCRIPTION:
URL:https://onwar.nl/event/onwar-cen-annual-phd-meeting-2/
LOCATION:Woudschoten Hotel en Conferentiecentrum\, Woudenbergseweg 54\, Zeist\, Netherlands
END:VEVENT
END:VCALENDAR