BEGIN:VCALENDAR
VERSION:2.0
PRODID:-//ONWAR - ECPv6.15.18//NONSGML v1.0//EN
CALSCALE:GREGORIAN
METHOD:PUBLISH
X-WR-CALNAME:ONWAR
X-ORIGINAL-URL:https://onwar.nl
X-WR-CALDESC:Events for ONWAR
REFRESH-INTERVAL;VALUE=DURATION:PT1H
X-Robots-Tag:noindex
X-PUBLISHED-TTL:PT1H
BEGIN:VTIMEZONE
TZID:UTC
BEGIN:STANDARD
TZOFFSETFROM:+0000
TZOFFSETTO:+0000
TZNAME:UTC
DTSTART:20250101T000000
END:STANDARD
END:VTIMEZONE
BEGIN:VEVENT
DTSTART;TZID=UTC:20260311T120000
DTEND;TZID=UTC:20260311T130000
DTSTAMP:20260424T202144
CREATED:20251210T121427Z
LAST-MODIFIED:20260310T075403Z
UID:9153-1773230400-1773234000@onwar.nl
SUMMARY:Swammerdam Lecture: Lucina Uddin
DESCRIPTION:12:00-13:00 Lecture  \n\n\n\n14:30 – 17:00 Masterclass
URL:https://onwar.nl/event/swammerdam-lecture-lucina-uddin/
END:VEVENT
END:VCALENDAR