BEGIN:VCALENDAR
VERSION:2.0
PRODID:-//ONWAR - ECPv6.15.18//NONSGML v1.0//EN
CALSCALE:GREGORIAN
METHOD:PUBLISH
X-ORIGINAL-URL:https://onwar.nl
X-WR-CALDESC:Events for ONWAR
REFRESH-INTERVAL;VALUE=DURATION:PT1H
X-Robots-Tag:noindex
X-PUBLISHED-TTL:PT1H
BEGIN:VTIMEZONE
TZID:UTC
BEGIN:STANDARD
TZOFFSETFROM:+0000
TZOFFSETTO:+0000
TZNAME:UTC
DTSTART:20250101T000000
END:STANDARD
END:VTIMEZONE
BEGIN:VEVENT
DTSTART;TZID=UTC:20260222T080000
DTEND;TZID=UTC:20260227T170000
DTSTAMP:20260425T011738
CREATED:20251008T080349Z
LAST-MODIFIED:20251116T211726Z
UID:6729-1771747200-1772211600@onwar.nl
SUMMARY:Course: Python for Science
DESCRIPTION:
URL:https://onwar.nl/event/course-python-for-science/
END:VEVENT
BEGIN:VEVENT
DTSTART;TZID=UTC:20260302T080000
DTEND;TZID=UTC:20260306T170000
DTSTAMP:20260425T011738
CREATED:20250503T113947Z
LAST-MODIFIED:20251116T211806Z
UID:5874-1772438400-1772816400@onwar.nl
SUMMARY:Course: Degenerative Diseases of the Nervous System: from Clinic to Bench
DESCRIPTION:
URL:https://onwar.nl/event/course-degenerative-diseases-of-the-nervous-system-from-clinic-to-bench-preliminary-dates/
END:VEVENT
BEGIN:VEVENT
DTSTART;TZID=UTC:20260311T120000
DTEND;TZID=UTC:20260311T130000
DTSTAMP:20260425T011738
CREATED:20251210T121427Z
LAST-MODIFIED:20260310T075403Z
UID:9153-1773230400-1773234000@onwar.nl
SUMMARY:Swammerdam Lecture: Lucina Uddin
DESCRIPTION:12:00-13:00 Lecture  \n\n\n\n14:30 – 17:00 Masterclass
URL:https://onwar.nl/event/swammerdam-lecture-lucina-uddin/
END:VEVENT
BEGIN:VEVENT
DTSTART;TZID=UTC:20260323T080000
DTEND;TZID=UTC:20260327T170000
DTSTAMP:20260425T011738
CREATED:20250723T121631Z
LAST-MODIFIED:20250723T122307Z
UID:6669-1774252800-1774630800@onwar.nl
SUMMARY:OOA x ONWAR CRISPR Course
DESCRIPTION:
URL:https://onwar.nl/event/ooa-x-onwar-crispr-course/
LOCATION:CNCR – Vrije Universiteit Amsterdam\, Boelelaan 1085\, Amsterdam\, Netherlands
END:VEVENT
BEGIN:VEVENT
DTSTART;TZID=UTC:20260327T080000
DTEND;TZID=UTC:20260402T170000
DTSTAMP:20260425T011738
CREATED:20251105T120444Z
LAST-MODIFIED:20251105T120445Z
UID:6859-1774598400-1775149200@onwar.nl
SUMMARY:Course: Functional Neuroanatomy
DESCRIPTION:
URL:https://onwar.nl/event/course-functional-neuroanatomy-3/
END:VEVENT
BEGIN:VEVENT
DTSTART;TZID=UTC:20260422T160000
DTEND;TZID=UTC:20260422T170000
DTSTAMP:20260425T011738
CREATED:20251106T112657Z
LAST-MODIFIED:20251106T112658Z
UID:6864-1776873600-1776877200@onwar.nl
SUMMARY:Swammerdam Lecture: John Cryan
DESCRIPTION:
URL:https://onwar.nl/event/swammerdam-lecture-john-cryan/
LOCATION:Netherlands Institute for Neuroscience (NIN)\, Meibergdreef 47\, Amsterdam
END:VEVENT
BEGIN:VEVENT
DTSTART;TZID=UTC:20260522T160000
DTEND;TZID=UTC:20260522T170000
DTSTAMP:20260425T011738
CREATED:20251105T113934Z
LAST-MODIFIED:20251106T112413Z
UID:6855-1779465600-1779469200@onwar.nl
SUMMARY:Swammerdam Lecture: Yvonne Weber: Genetic Mechanisms in the Epilepsies
DESCRIPTION:Affiliated with: Section of Epileptology\, Department of Neurology\, University Clinic RWTH Aachen\, Germany \n\n\n\nthere will also be a meta science event hosted \n\n\n\nHosted by Natalia Goriounova
URL:https://onwar.nl/event/swammerdam-lecture-yvonne-weber/
LOCATION:CNCR – Vrije Universiteit Amsterdam\, Boelelaan 1085\, Amsterdam\, Netherlands
END:VEVENT
BEGIN:VEVENT
DTSTART;TZID=UTC:20261002T160000
DTEND;TZID=UTC:20261002T180000
DTSTAMP:20260425T011738
CREATED:20251209T124559Z
LAST-MODIFIED:20251209T124603Z
UID:9151-1790956800-1790964000@onwar.nl
SUMMARY:Swammerdam Lecture: Zach Mainen
DESCRIPTION:
URL:https://onwar.nl/event/swammerdam-lecture-zach-mainen/
LOCATION:Swammerdam Institute for Life Sciences\, Sciencepark 904\, Amsterdam
END:VEVENT
BEGIN:VEVENT
DTSTART;TZID=UTC:20261016T160000
DTEND;TZID=UTC:20261016T170000
DTSTAMP:20260425T011738
CREATED:20251105T115334Z
LAST-MODIFIED:20251105T115335Z
UID:6857-1792166400-1792170000@onwar.nl
SUMMARY:Swammerdam Lecture: Ragnhildur Thora Karadottir
DESCRIPTION:
URL:https://onwar.nl/event/swammerdam-lecture-ragnhildur-thora-karadottir/
LOCATION:Netherlands Institute for Neuroscience (NIN)\, Meibergdreef 47\, Amsterdam
END:VEVENT
BEGIN:VEVENT
DTSTART;TZID=UTC:20261116T080000
DTEND;TZID=UTC:20261118T170000
DTSTAMP:20260425T011738
CREATED:20250723T073632Z
LAST-MODIFIED:20250723T075320Z
UID:6659-1794816000-1795021200@onwar.nl
SUMMARY:ONWAR Introductory Course 2026
DESCRIPTION:
URL:https://onwar.nl/event/onwar-introductory-course-2026/
END:VEVENT
BEGIN:VEVENT
DTSTART;TZID=UTC:20261126T000000
DTEND;TZID=UTC:20261127T235959
DTSTAMP:20260425T011738
CREATED:20250701T125913Z
LAST-MODIFIED:20250701T130020Z
UID:6457-1795651200-1795823999@onwar.nl
SUMMARY:ONWAR/CEN Annual PhD meeting
DESCRIPTION:
URL:https://onwar.nl/event/onwar-cen-annual-phd-meeting-3/
LOCATION:Woudschoten Hotel en Conferentiecentrum\, Woudenbergseweg 54\, Zeist\, Netherlands
END:VEVENT
BEGIN:VEVENT
DTSTART;TZID=UTC:20270129T080000
DTEND;TZID=UTC:20270205T170000
DTSTAMP:20260425T011738
CREATED:20251217T102821Z
LAST-MODIFIED:20251217T102941Z
UID:9193-1801209600-1801846800@onwar.nl
SUMMARY:Course: Cognitive Neuroscience
DESCRIPTION:
URL:https://onwar.nl/event/course-cognitive-neuroscience-2/
LOCATION:min
END:VEVENT
BEGIN:VEVENT
DTSTART;TZID=UTC:20271115T080000
DTEND;TZID=UTC:20271117T170000
DTSTAMP:20260425T011738
CREATED:20250723T073719Z
LAST-MODIFIED:20250723T075432Z
UID:6661-1826265600-1826470800@onwar.nl
SUMMARY:ONWAR Introductory Course 2027
DESCRIPTION:
URL:https://onwar.nl/event/onwar-introductory-course-2027/
END:VEVENT
BEGIN:VEVENT
DTSTART;TZID=UTC:20271125T000000
DTEND;TZID=UTC:20271126T235959
DTSTAMP:20260425T011738
CREATED:20250701T130135Z
LAST-MODIFIED:20250701T130515Z
UID:6460-1827100800-1827273599@onwar.nl
SUMMARY:ONWAR/CEN Annual PhD meeting (preliminary dates)
DESCRIPTION:
URL:https://onwar.nl/event/onwar-cen-annual-phd-meeting-preliminary-dates/
END:VEVENT
BEGIN:VEVENT
DTSTART;TZID=UTC:20281120T080000
DTEND;TZID=UTC:20281122T170000
DTSTAMP:20260425T011738
CREATED:20250723T074009Z
LAST-MODIFIED:20250723T074011Z
UID:6663-1858320000-1858525200@onwar.nl
SUMMARY:ONWAR Introductory Course 2028
DESCRIPTION:
URL:https://onwar.nl/event/onwar-introductory-course-2028/
END:VEVENT
BEGIN:VEVENT
DTSTART;TZID=UTC:20281130T000000
DTEND;TZID=UTC:20281201T235959
DTSTAMP:20260425T011738
CREATED:20250701T130246Z
LAST-MODIFIED:20250701T130248Z
UID:6462-1859155200-1859327999@onwar.nl
SUMMARY:ONWAR/CEN Annual PhD meeting (preliminary dates)
DESCRIPTION:
URL:https://onwar.nl/event/onwar-cen-annual-phd-meeting-preliminary-dates-2/
END:VEVENT
END:VCALENDAR