BEGIN:VCALENDAR
VERSION:2.0
PRODID:-//ONWAR - ECPv6.15.18//NONSGML v1.0//EN
CALSCALE:GREGORIAN
METHOD:PUBLISH
X-WR-CALNAME:ONWAR
X-ORIGINAL-URL:https://onwar.nl
X-WR-CALDESC:Events for ONWAR
REFRESH-INTERVAL;VALUE=DURATION:PT1H
X-Robots-Tag:noindex
X-PUBLISHED-TTL:PT1H
BEGIN:VTIMEZONE
TZID:UTC
BEGIN:STANDARD
TZOFFSETFROM:+0000
TZOFFSETTO:+0000
TZNAME:UTC
DTSTART:20220101T000000
END:STANDARD
END:VTIMEZONE
BEGIN:VTIMEZONE
TZID:Europe/Amsterdam
BEGIN:DAYLIGHT
TZOFFSETFROM:+0100
TZOFFSETTO:+0200
TZNAME:CEST
DTSTART:20220327T010000
END:DAYLIGHT
BEGIN:STANDARD
TZOFFSETFROM:+0200
TZOFFSETTO:+0100
TZNAME:CET
DTSTART:20221030T010000
END:STANDARD
BEGIN:DAYLIGHT
TZOFFSETFROM:+0100
TZOFFSETTO:+0200
TZNAME:CEST
DTSTART:20230326T010000
END:DAYLIGHT
BEGIN:STANDARD
TZOFFSETFROM:+0200
TZOFFSETTO:+0100
TZNAME:CET
DTSTART:20231029T010000
END:STANDARD
BEGIN:DAYLIGHT
TZOFFSETFROM:+0100
TZOFFSETTO:+0200
TZNAME:CEST
DTSTART:20240331T010000
END:DAYLIGHT
BEGIN:STANDARD
TZOFFSETFROM:+0200
TZOFFSETTO:+0100
TZNAME:CET
DTSTART:20241027T010000
END:STANDARD
END:VTIMEZONE
BEGIN:VEVENT
DTSTART;TZID=UTC:20250303T080000
DTEND;TZID=UTC:20250307T170000
DTSTAMP:20260425T023149
CREATED:20241114T144032Z
LAST-MODIFIED:20241114T144032Z
UID:4328-1740988800-1741366800@onwar.nl
SUMMARY:Course: Functional Neuroanatomy
DESCRIPTION:
URL:https://onwar.nl/event/course-functional-neuroanatomy-2/
END:VEVENT
BEGIN:VEVENT
DTSTART;TZID=UTC:20241128T080000
DTEND;TZID=UTC:20241206T170000
DTSTAMP:20260425T023149
CREATED:20240306T083342Z
LAST-MODIFIED:20240306T083342Z
UID:3904-1732780800-1733504400@onwar.nl
SUMMARY:Programming in Matlab
DESCRIPTION:Intro days for beginners: November 28-29 \n 
URL:https://onwar.nl/event/programming-in-matlab-3/
END:VEVENT
BEGIN:VEVENT
DTSTART;TZID=UTC:20241121T080000
DTEND;TZID=UTC:20241122T170000
DTSTAMP:20260425T023149
CREATED:20231127T113719Z
LAST-MODIFIED:20231127T113802Z
UID:3568-1732176000-1732294800@onwar.nl
SUMMARY:ONWAR/CEN Annual PhD meeting
DESCRIPTION:
URL:https://onwar.nl/event/onwar-annual-meeting/
LOCATION:Woudschoten Hotel en Conferentiecentrum\, Woudenbergseweg 54\, Zeist\, Netherlands
END:VEVENT
BEGIN:VEVENT
DTSTART;TZID=UTC:20241111T080000
DTEND;TZID=UTC:20241115T170000
DTSTAMP:20260425T023149
CREATED:20240514T133332Z
LAST-MODIFIED:20240514T133332Z
UID:4080-1731312000-1731690000@onwar.nl
SUMMARY:Functional Imaging and Super Resolution
DESCRIPTION:
URL:https://onwar.nl/event/functional-imaging-and-super-resolution-2/
LOCATION:Erasmus Optical Imaging Centre\, Dr. Molewaterplein 50\, Rotterdam
END:VEVENT
BEGIN:VEVENT
DTSTART;TZID=UTC:20241111T080000
DTEND;TZID=UTC:20241113T170000
DTSTAMP:20260425T023149
CREATED:20240306T142257Z
LAST-MODIFIED:20240306T142257Z
UID:3909-1731312000-1731517200@onwar.nl
SUMMARY:ONWAR Introductory Course
DESCRIPTION:For the 1st year students of ONWAR
URL:https://onwar.nl/event/onwar-introductory-course-2/
END:VEVENT
BEGIN:VEVENT
DTSTART;TZID=UTC:20241021T080000
DTEND;TZID=UTC:20241025T170000
DTSTAMP:20260425T023149
CREATED:20240306T075111Z
LAST-MODIFIED:20240306T075111Z
UID:3896-1729497600-1729875600@onwar.nl
SUMMARY:Experimental Neurophysiology
DESCRIPTION:
URL:https://onwar.nl/event/experimental-neurophysiology/
END:VEVENT
BEGIN:VEVENT
DTSTART;TZID=UTC:20241014T080000
DTEND;TZID=UTC:20241018T170000
DTSTAMP:20260425T023149
CREATED:20240306T083548Z
LAST-MODIFIED:20240528T071651Z
UID:3907-1728892800-1729270800@onwar.nl
SUMMARY:Degenerative Diseases of the Brain
DESCRIPTION:
URL:https://onwar.nl/event/degenerative-diseases-of-the-brain-2/
END:VEVENT
BEGIN:VEVENT
DTSTART;TZID=UTC:20241009T160000
DTEND;TZID=UTC:20241009T170000
DTSTAMP:20260425T023149
CREATED:20231129T133008Z
LAST-MODIFIED:20231129T133008Z
UID:3571-1728489600-1728493200@onwar.nl
SUMMARY:Swammerdam Lecture: Paola Arlotta
DESCRIPTION:
URL:https://onwar.nl/event/swammerdam-lecture-paola-arlotta/
END:VEVENT
BEGIN:VEVENT
DTSTART;TZID=UTC:20240917T080000
DTEND;TZID=UTC:20240920T170000
DTSTAMP:20260425T023149
CREATED:20240514T062620Z
LAST-MODIFIED:20240514T062620Z
UID:4075-1726560000-1726851600@onwar.nl
SUMMARY:Current Issues in Clinical Neuroscience
DESCRIPTION:Neural Interface Technology and Human Application \nAbstract: In the last decades Neurotechnology has made a significant impact on society. What was then science-fiction is now a vivid reality of brain-powered technology. In this course you will learn the basics of brain electrophysiology\, how to read information from the brain and how to write information back into the brain. We will put your brains to the test with interactive practicals and societal brain-teasers. Are you interested in learning more about the current status and impact of Neurotechnology? Then this course is just the one for you! \nDates: 17/09/2024 (Tuesday) to 20/09/2024 (Friday) \nCapacity: 40 students \n\nDeadline: 01-08-2024 \nCredits: 1.5 EC \n\nPlease register by sending an email to: Cen-secretariaat@umcutrecht.nl
URL:https://onwar.nl/event/current-issues-in-clinical-neuroscience/
LOCATION:UMC Utrecht\, David de Wied room\, STR4.112\, Dept. of Translational Neuroscience\, Stratenum Building
END:VEVENT
BEGIN:VEVENT
DTSTART;TZID=UTC:20240902T080000
DTEND;TZID=UTC:20241101T170000
DTSTAMP:20260425T023149
CREATED:20240306T075208Z
LAST-MODIFIED:20240306T075208Z
UID:3901-1725264000-1730480400@onwar.nl
SUMMARY:Statistics in Neuroscience
DESCRIPTION:
URL:https://onwar.nl/event/statistics-in-neuroscience-2/
END:VEVENT
BEGIN:VEVENT
DTSTART;TZID=UTC:20240522T080000
DTEND;TZID=UTC:20240522T170000
DTSTAMP:20260425T023149
CREATED:20230405T115112Z
LAST-MODIFIED:20240307T124708Z
UID:2815-1716364800-1716397200@onwar.nl
SUMMARY:Swammerdam Lecture: Cristina Granziera
DESCRIPTION:Swammerdam lecture + Masterclass
URL:https://onwar.nl/event/swammerdam-lecture-cristina-granziera/
END:VEVENT
BEGIN:VEVENT
DTSTART;TZID=UTC:20240418T130000
DTEND;TZID=UTC:20240418T170000
DTSTAMP:20260425T023149
CREATED:20231012T054255Z
LAST-MODIFIED:20231018T125836Z
UID:3319-1713445200-1713459600@onwar.nl
SUMMARY:Swammerdam Lecture: Alexej Verkhratsky
DESCRIPTION:Swammerdam Lecture + Masterclass
URL:https://onwar.nl/event/swammerdam-lecture-alexej-verkhratsky/
LOCATION:Netherlands Institute for Neuroscience (NIN)\, Meibergdreef 47\, Amsterdam
END:VEVENT
BEGIN:VEVENT
DTSTART;TZID=UTC:20240409T080000
DTEND;TZID=UTC:20240712T170000
DTSTAMP:20260425T023149
CREATED:20240306T074935Z
LAST-MODIFIED:20240306T083120Z
UID:3894-1712649600-1720803600@onwar.nl
SUMMARY:Grant Writing
DESCRIPTION:Tue April 9: Intro to grant writing \nTue June 4: Grant Submission \nFri June 21: Review submission \nFri July 5: Rebuttal submission \nFri July 12: Final presentation + discussion
URL:https://onwar.nl/event/grant-writing-2/
END:VEVENT
BEGIN:VEVENT
DTSTART;TZID=UTC:20240322T080000
DTEND;TZID=UTC:20240326T170000
DTSTAMP:20260425T023149
CREATED:20231129T145251Z
LAST-MODIFIED:20240306T075318Z
UID:3573-1711094400-1711472400@onwar.nl
SUMMARY:Course: Funcțional Neuroanatomy
DESCRIPTION:
URL:https://onwar.nl/event/course-functional-neuroanatomy/
END:VEVENT
BEGIN:VEVENT
DTSTART;TZID=UTC:20240205T080000
DTEND;TZID=UTC:20240209T170000
DTSTAMP:20260425T023149
CREATED:20230928T074637Z
LAST-MODIFIED:20230928T074637Z
UID:3282-1707120000-1707498000@onwar.nl
SUMMARY:Cognitive Neuroscience
DESCRIPTION:
URL:https://onwar.nl/event/cognitive-neuroscience/
END:VEVENT
BEGIN:VEVENT
DTSTART;TZID=UTC:20240126T160000
DTEND;TZID=UTC:20240126T170000
DTSTAMP:20260425T023149
CREATED:20231220T121740Z
LAST-MODIFIED:20231220T121810Z
UID:3617-1706284800-1706288400@onwar.nl
SUMMARY:Swammerdam Lecture: Tim Vogels + masterclass
DESCRIPTION:
URL:https://onwar.nl/event/swammerdam-lecture-tim-vogels/
LOCATION:Swammerdam Institute for Life Sciences\, Sciencepark 904\, Amsterdam
END:VEVENT
BEGIN:VEVENT
DTSTART;TZID=Europe/Amsterdam:20231207T080000
DTEND;TZID=Europe/Amsterdam:20231215T170000
DTSTAMP:20260425T023149
CREATED:20230928T062215Z
LAST-MODIFIED:20230928T065537Z
UID:3277-1701936000-1702659600@onwar.nl
SUMMARY:Programming in Matlab
DESCRIPTION:
URL:https://onwar.nl/event/programming-in-matlab-2/
CATEGORIES:Courses
END:VEVENT
BEGIN:VEVENT
DTSTART;VALUE=DATE:20231123
DTEND;VALUE=DATE:20231125
DTSTAMP:20260425T023149
CREATED:20230112T100112Z
LAST-MODIFIED:20230112T100112Z
UID:2729-1700697600-1700870399@onwar.nl
SUMMARY:ONWAR/CEN Annual PhD meeting
DESCRIPTION:
URL:https://onwar.nl/event/onwar-cen-annual-phd-meeting/
LOCATION:Woudschoten Hotel en Conferentiecentrum\, Woudenbergseweg 54\, Zeist\, Netherlands
END:VEVENT
BEGIN:VEVENT
DTSTART;TZID=UTC:20231120T080000
DTEND;TZID=UTC:20231122T170000
DTSTAMP:20260425T023149
CREATED:20230317T160158Z
LAST-MODIFIED:20230317T160158Z
UID:2788-1700467200-1700672400@onwar.nl
SUMMARY:ONWAR Introduction Course
DESCRIPTION:
URL:https://onwar.nl/event/onwar-introduction-course/
END:VEVENT
BEGIN:VEVENT
DTSTART;TZID=UTC:20231117T000000
DTEND;TZID=UTC:20231117T000000
DTSTAMP:20260425T023149
CREATED:20230317T153458Z
LAST-MODIFIED:20231106T083747Z
UID:2786-1700179200-1700179200@onwar.nl
SUMMARY:Swammerdam Lecture: David Lyons
DESCRIPTION:Follow this link for more information: http://onwar.nl/swammerdam-david-lyons/
URL:https://onwar.nl/event/swammerdam-lecture-david-lyons/
CATEGORIES:Swammerdam Lectures
END:VEVENT
BEGIN:VEVENT
DTSTART;TZID=UTC:20231106T080000
DTEND;TZID=UTC:20231110T170000
DTSTAMP:20260425T023149
CREATED:20230928T074740Z
LAST-MODIFIED:20230928T074740Z
UID:3284-1699257600-1699635600@onwar.nl
SUMMARY:Functional Imaging and Super Resolution
DESCRIPTION:
URL:https://onwar.nl/event/functional-imaging-and-super-resolution/
END:VEVENT
BEGIN:VEVENT
DTSTART;TZID=UTC:20231016T080000
DTEND;TZID=UTC:20231020T170000
DTSTAMP:20260425T023149
CREATED:20230414T071537Z
LAST-MODIFIED:20230414T071537Z
UID:2817-1697443200-1697821200@onwar.nl
SUMMARY:Degenerative Diseases of the Brain
DESCRIPTION:
URL:https://onwar.nl/event/degenerative-diseases-of-the-brain/
END:VEVENT
BEGIN:VEVENT
DTSTART;TZID=UTC:20230911T080000
DTEND;TZID=UTC:20230915T170000
DTSTAMP:20260425T023149
CREATED:20230322T124817Z
LAST-MODIFIED:20230328T121621Z
UID:2790-1694419200-1694797200@onwar.nl
SUMMARY:Neuropsychopharmacology
DESCRIPTION:Neuropsychopharmacology addresses our current understanding of the pharmacology of CNS active drugs\, the discovery of CNS drug targets as well as the development of innovative medicines and therapies\, allowing students to become familiar with the fascinating field of neuropsychopharmacology.\nDuring the course\, the major classes of pharmacotherapeuticals for the clinical management of various neurological and psychiatric diseases and the pathological mechanisms of these brain disorders will be discussed.
URL:https://onwar.nl/event/neuropsychopharmacology/
END:VEVENT
BEGIN:VEVENT
DTSTART;TZID=UTC:20230901T080000
DTEND;TZID=UTC:20231031T170000
DTSTAMP:20260425T023149
CREATED:20230112T100955Z
LAST-MODIFIED:20230112T103717Z
UID:2732-1693555200-1698771600@onwar.nl
SUMMARY:Statistics in Neurosciences
DESCRIPTION:This is a fulltime master’s course\, running in September and October.
URL:https://onwar.nl/event/statistics-in-neurosciences/
LOCATION:CNCR – Vrije Universiteit Amsterdam\, Boelelaan 1085\, Amsterdam\, Netherlands
END:VEVENT
BEGIN:VEVENT
DTSTART;TZID=UTC:20230714T080000
DTEND;TZID=UTC:20230714T170000
DTSTAMP:20260425T023149
CREATED:20230508T103554Z
LAST-MODIFIED:20230508T103554Z
UID:2827-1689321600-1689354000@onwar.nl
SUMMARY:Swammerdam Lecture: Ed Lein
DESCRIPTION:Human brain cell atlasing and its application to brain diseases. \n  \n 
URL:https://onwar.nl/event/swammerdam-lecture-ed-lein/
LOCATION:CNCR – Vrije Universiteit Amsterdam\, Boelelaan 1085\, Amsterdam\, Netherlands
END:VEVENT
BEGIN:VEVENT
DTSTART;TZID=UTC:20230614T160000
DTEND;TZID=UTC:20230614T180000
DTSTAMP:20260425T023149
CREATED:20230522T130917Z
LAST-MODIFIED:20230522T130917Z
UID:2840-1686758400-1686765600@onwar.nl
SUMMARY:Swammerdam x ABC lecture: Sabine Kastner
DESCRIPTION:Princeton Neuroscience Institute\nNeural dynamics of the primate attention network\nThe selection of information from our cluttered sensory environments is one of the most fundamental cognitive operations performed by the primate brain. In the visual domain\, the selection process is thought to be mediated by a static spatial mechanism – a ‘spotlight’ that can be flexibly shifted around the visual scene. This spatial search mechanism has been associated with a large-scale network that consists of multiple nodes distributed across all major cortical lobes and includes also subcortical regions. To identify the specific functions of each network node and their functional interactions is a major goal for the field of cognitive neuroscience. In my lecture\, I will give an overview on the neural basis of this fundamental cognitive function and discuss recently discovered rhythmic properties that set up alternating attention states. \n  \nFor this event it is possible to have a lunch meet & great with Sabine Kastner. ONWAR will cover lunch costs. You can sign up by sending an email to k.hubregtse@vu.nl. There are limited spots available: first come\, first serve! \n  \nLocation: \nScience Park 904 | SP C0.110 \n  \n  \nThis is a collaboration between ONWAR and Amsterdam Brain and Cognition.
URL:https://onwar.nl/event/swammerdam-x-abc-lecture-sabine-kastner/
LOCATION:Swammerdam Institute for Life Sciences\, Sciencepark 904\, Amsterdam
END:VEVENT
BEGIN:VEVENT
DTSTART;TZID=UTC:20230612T080000
DTEND;TZID=UTC:20230616T170000
DTSTAMP:20260425T023149
CREATED:20221208T112338Z
LAST-MODIFIED:20221208T112338Z
UID:2640-1686556800-1686934800@onwar.nl
SUMMARY:Molecular Neurobiology and Genetics
DESCRIPTION:
URL:https://onwar.nl/event/molecular-neurobiology-and-genetics/
CATEGORIES:Courses
END:VEVENT
BEGIN:VEVENT
DTSTART;TZID=UTC:20230331T163000
DTEND;TZID=UTC:20230331T173000
DTSTAMP:20260425T023149
CREATED:20221208T112624Z
LAST-MODIFIED:20230317T150816Z
UID:2645-1680280200-1680283800@onwar.nl
SUMMARY:Swammerdam Lecture - JONG M. RHO
DESCRIPTION:JONG M. RHO – MARCH 31ST 2023\n\n\n\n\nKetosis and Neuroprotection: Mechanisms and Implications for Diverse Brain and Mental Health Disorders \n\nTime: 16:30 – 17:30 \n\nLocation: Colloquium room\, Netherlands Institute for Neuroscience (NIN)\, Meibergdreef 47 Amsterdam
URL:https://onwar.nl/event/swammerdam-lecture-jong-m-rho/
CATEGORIES:Swammerdam Lectures
END:VEVENT
BEGIN:VEVENT
DTSTART;TZID=UTC:20230327T080000
DTEND;TZID=UTC:20230331T170000
DTSTAMP:20260425T023149
CREATED:20221208T112206Z
LAST-MODIFIED:20221208T112206Z
UID:2638-1679904000-1680282000@onwar.nl
SUMMARY:Functional Neuroanatomy
DESCRIPTION:
URL:https://onwar.nl/event/functional-neuroanatomy/
CATEGORIES:Courses
END:VEVENT
BEGIN:VEVENT
DTSTART;TZID=UTC:20230324T100000
DTEND;TZID=UTC:20230626T170000
DTSTAMP:20260425T023149
CREATED:20221216T135008Z
LAST-MODIFIED:20230104T130921Z
UID:2651-1679652000-1687798800@onwar.nl
SUMMARY:Grant Writing
DESCRIPTION:March 24th. 10 a.m.: introduction to grant writing\nMay 26th: deadline grant submission\nJune 12th: deadline review submission\nJune 19th: deadline rebuttal submission\nJune 26th\, 2 p.m.: grant presentations and discussion
URL:https://onwar.nl/event/grant-writing/
CATEGORIES:Courses
END:VEVENT
END:VCALENDAR