BEGIN:VCALENDAR
VERSION:2.0
PRODID:-//ONWAR - ECPv6.15.18//NONSGML v1.0//EN
CALSCALE:GREGORIAN
METHOD:PUBLISH
X-ORIGINAL-URL:https://onwar.nl
X-WR-CALDESC:Events for ONWAR
REFRESH-INTERVAL;VALUE=DURATION:PT1H
X-Robots-Tag:noindex
X-PUBLISHED-TTL:PT1H
BEGIN:VTIMEZONE
TZID:UTC
BEGIN:STANDARD
TZOFFSETFROM:+0000
TZOFFSETTO:+0000
TZNAME:UTC
DTSTART:20240101T000000
END:STANDARD
END:VTIMEZONE
BEGIN:VEVENT
DTSTART;TZID=UTC:20251103T080000
DTEND;TZID=UTC:20251110T170000
DTSTAMP:20260415T175316
CREATED:20250512T075507Z
LAST-MODIFIED:20250512T075917Z
UID:6357-1762156800-1762794000@onwar.nl
SUMMARY:Course: Cognitive Neuroscience
DESCRIPTION:
URL:https://onwar.nl/event/course-cognitive-neuroscience/
LOCATION:Netherlands Institute for Neuroscience (NIN)\, Meibergdreef 47\, Amsterdam
END:VEVENT
BEGIN:VEVENT
DTSTART;TZID=UTC:20251110T080000
DTEND;TZID=UTC:20251114T170000
DTSTAMP:20260415T175316
CREATED:20250503T114355Z
LAST-MODIFIED:20250503T114355Z
UID:5878-1762761600-1763139600@onwar.nl
SUMMARY:Course: Functional Imaging and Super Resolution
DESCRIPTION:
URL:https://onwar.nl/event/course-functional-imaging-and-super-resolution/
LOCATION:Erasmus Optical Imaging Centre\, Dr. Molewaterplein 50\, Rotterdam
END:VEVENT
END:VCALENDAR