BEGIN:VCALENDAR
VERSION:2.0
PRODID:-//ONWAR - ECPv6.15.18//NONSGML v1.0//EN
CALSCALE:GREGORIAN
METHOD:PUBLISH
X-ORIGINAL-URL:https://onwar.nl
X-WR-CALDESC:Events for ONWAR
REFRESH-INTERVAL;VALUE=DURATION:PT1H
X-Robots-Tag:noindex
X-PUBLISHED-TTL:PT1H
BEGIN:VTIMEZONE
TZID:UTC
BEGIN:STANDARD
TZOFFSETFROM:+0000
TZOFFSETTO:+0000
TZNAME:UTC
DTSTART:20250101T000000
END:STANDARD
END:VTIMEZONE
BEGIN:VEVENT
DTSTART;TZID=UTC:20260128T120000
DTEND;TZID=UTC:20260128T130000
DTSTAMP:20260424T215135
CREATED:20250503T114521Z
LAST-MODIFIED:20250503T114531Z
UID:5880-1769601600-1769605200@onwar.nl
SUMMARY:Swammerdam Lecture: Prof. dr. Gonçalo Castelo-Branco
DESCRIPTION:
URL:https://onwar.nl/event/swammerdam-lecture-prof-dr-goncalo-castelo-branco/
LOCATION:CNCR – Vrije Universiteit Amsterdam\, Boelelaan 1085\, Amsterdam\, Netherlands
END:VEVENT
END:VCALENDAR